BEGIN:VCALENDAR
VERSION:2.0
PRODID:-//Toward Zero Waste - ECPv6.15.20//NONSGML v1.0//EN
CALSCALE:GREGORIAN
METHOD:PUBLISH
X-ORIGINAL-URL:https://towardzerowaste.org
X-WR-CALDESC:Events for Toward Zero Waste
REFRESH-INTERVAL;VALUE=DURATION:PT1H
X-Robots-Tag:noindex
X-PUBLISHED-TTL:PT1H
BEGIN:VTIMEZONE
TZID:UTC
BEGIN:STANDARD
TZOFFSETFROM:+0000
TZOFFSETTO:+0000
TZNAME:UTC
DTSTART:20210101T000000
END:STANDARD
END:VTIMEZONE
BEGIN:VTIMEZONE
TZID:America/New_York
BEGIN:DAYLIGHT
TZOFFSETFROM:-0500
TZOFFSETTO:-0400
TZNAME:EDT
DTSTART:20200308T070000
END:DAYLIGHT
BEGIN:STANDARD
TZOFFSETFROM:-0400
TZOFFSETTO:-0500
TZNAME:EST
DTSTART:20201101T060000
END:STANDARD
BEGIN:DAYLIGHT
TZOFFSETFROM:-0500
TZOFFSETTO:-0400
TZNAME:EDT
DTSTART:20210314T070000
END:DAYLIGHT
BEGIN:STANDARD
TZOFFSETFROM:-0400
TZOFFSETTO:-0500
TZNAME:EST
DTSTART:20211107T060000
END:STANDARD
BEGIN:DAYLIGHT
TZOFFSETFROM:-0500
TZOFFSETTO:-0400
TZNAME:EDT
DTSTART:20220313T070000
END:DAYLIGHT
BEGIN:STANDARD
TZOFFSETFROM:-0400
TZOFFSETTO:-0500
TZNAME:EST
DTSTART:20221106T060000
END:STANDARD
BEGIN:DAYLIGHT
TZOFFSETFROM:-0500
TZOFFSETTO:-0400
TZNAME:EDT
DTSTART:20230312T070000
END:DAYLIGHT
BEGIN:STANDARD
TZOFFSETFROM:-0400
TZOFFSETTO:-0500
TZNAME:EST
DTSTART:20231105T060000
END:STANDARD
END:VTIMEZONE
BEGIN:VEVENT
DTSTART;TZID=UTC:20220420T190000
DTEND;TZID=UTC:20220420T200000
DTSTAMP:20260423T220315
CREATED:20220331T213539Z
LAST-MODIFIED:20220331T215033Z
UID:9518-1650481200-1650484800@towardzerowaste.org
SUMMARY:Virtual April Makers Meetup: Cutlery Wrap Demo
DESCRIPTION:April’s Makers Meetup will be a great time to share ideas with like minds and tackle one of the beginner zero waste projects that has been shared in the Facebook group! This event will feature a demonstration of how to sew your own cutlery wraps to carry your utensils with you in style!
URL:https://towardzerowaste.org/event/virtual-april-makers-meetup-cutlery-wrap-demo/
LOCATION:Online
CATEGORIES:Maker's Events,Virtual Event
ATTACH;FMTTYPE=image/png:https://towardzerowaste.org/wp-content/uploads/2022/03/April-Makers-Meetup-Cutlery-Wraps-2.png
END:VEVENT
BEGIN:VEVENT
DTSTART;TZID=UTC:20220409T080000
DTEND;TZID=UTC:20220409T120000
DTSTAMP:20260423T220315
CREATED:20220331T220244Z
LAST-MODIFIED:20220406T213919Z
UID:9524-1649491200-1649505600@towardzerowaste.org
SUMMARY:TZW Makers Table at the Cary Downtown Farmers Spring Opening Day
DESCRIPTION:We’re so excited to share that we will have our own table at the Cary Downtown Farmers Market Spring Opening Day on April 9th – this will be amazing exposure for the Reusable Bag Project and to gain more group members!\nIf you are interested in helping with some fabric cutting demos or engaging with the community at this tabling event\, please reach out at makers@towardzerowaste.org! We hope to see you there with your reusable bags!
URL:https://towardzerowaste.org/event/tzw-makers-table-at-the-cary-downtown-farmers-spring-opening-day/
LOCATION:Cary Downtown Farmers Market\, 160 E Park St\, Cary\, NC\, 27511\, United States
CATEGORIES:Cary,Maker's Events
ATTACH;FMTTYPE=image/png:https://towardzerowaste.org/wp-content/uploads/2022/03/CDFM-Spring-Opening-Day.png
END:VEVENT
BEGIN:VEVENT
DTSTART;TZID=America/New_York:20220315T190000
DTEND;TZID=America/New_York:20220315T200000
DTSTAMP:20260423T220315
CREATED:20211214T143243Z
LAST-MODIFIED:20220310T143526Z
UID:8243-1647370800-1647374400@towardzerowaste.org
SUMMARY:Reducing Food Waste: Guest Speaker Mei from Food Waste Feast
DESCRIPTION:Meet Mei and learn why she started Food Waste Feast with her sister Irene. \nJoin us to learn how to reduce food waste in the kitchen with award winning chef\, cookbook author\, advocate and food waste fighter Mei! Register HERE. \nA Zoom link will be sent out a few hours before the event starts. Hope to see you there!
URL:https://towardzerowaste.org/event/reducing-food-waste-guest-speaker-mei-from-food-waste-feast/
LOCATION:Online
CATEGORIES:Maker's Events,Virtual Event
ATTACH;FMTTYPE=image/png:https://towardzerowaste.org/wp-content/uploads/2021/09/aboutuswebsitefooter.png
END:VEVENT
BEGIN:VEVENT
DTSTART;TZID=America/New_York:20210916T190000
DTEND;TZID=America/New_York:20210916T200000
DTSTAMP:20260423T220315
CREATED:20210826T221629Z
LAST-MODIFIED:20210826T222225Z
UID:7723-1631818800-1631822400@towardzerowaste.org
SUMMARY:Makers Fabric Cutting Virtual Meet-up
DESCRIPTION:Register HerePlease join fellow makers for Toward Zero Waste’s first Makers Community virtual event! We will meet over Zoom\, enjoy a chat\, maybe a beverage\, and do some fabric cutting (for your own project or the TZW Reusable Bag Project).
URL:https://towardzerowaste.org/event/makers-fabric-cutting-virtual-meet-up/
LOCATION:Online
CATEGORIES:Maker's Events,Virtual Event
ATTACH;FMTTYPE=image/jpeg:https://towardzerowaste.org/wp-content/uploads/2021/08/TZWMakers_Photo-scaled.jpg
END:VEVENT
END:VCALENDAR