BEGIN:VCALENDAR
VERSION:2.0
PRODID:-//Toward Zero Waste - ECPv6.15.20//NONSGML v1.0//EN
CALSCALE:GREGORIAN
METHOD:PUBLISH
X-WR-CALNAME:Toward Zero Waste
X-ORIGINAL-URL:https://towardzerowaste.org
X-WR-CALDESC:Events for Toward Zero Waste
REFRESH-INTERVAL;VALUE=DURATION:PT1H
X-Robots-Tag:noindex
X-PUBLISHED-TTL:PT1H
BEGIN:VTIMEZONE
TZID:America/New_York
BEGIN:DAYLIGHT
TZOFFSETFROM:-0500
TZOFFSETTO:-0400
TZNAME:EDT
DTSTART:20200308T070000
END:DAYLIGHT
BEGIN:STANDARD
TZOFFSETFROM:-0400
TZOFFSETTO:-0500
TZNAME:EST
DTSTART:20201101T060000
END:STANDARD
BEGIN:DAYLIGHT
TZOFFSETFROM:-0500
TZOFFSETTO:-0400
TZNAME:EDT
DTSTART:20210314T070000
END:DAYLIGHT
BEGIN:STANDARD
TZOFFSETFROM:-0400
TZOFFSETTO:-0500
TZNAME:EST
DTSTART:20211107T060000
END:STANDARD
BEGIN:DAYLIGHT
TZOFFSETFROM:-0500
TZOFFSETTO:-0400
TZNAME:EDT
DTSTART:20220313T070000
END:DAYLIGHT
BEGIN:STANDARD
TZOFFSETFROM:-0400
TZOFFSETTO:-0500
TZNAME:EST
DTSTART:20221106T060000
END:STANDARD
BEGIN:DAYLIGHT
TZOFFSETFROM:-0500
TZOFFSETTO:-0400
TZNAME:EDT
DTSTART:20230312T070000
END:DAYLIGHT
BEGIN:STANDARD
TZOFFSETFROM:-0400
TZOFFSETTO:-0500
TZNAME:EST
DTSTART:20231105T060000
END:STANDARD
END:VTIMEZONE
BEGIN:VTIMEZONE
TZID:UTC
BEGIN:STANDARD
TZOFFSETFROM:+0000
TZOFFSETTO:+0000
TZNAME:UTC
DTSTART:20210101T000000
END:STANDARD
END:VTIMEZONE
BEGIN:VEVENT
DTSTART;TZID=America/New_York:20221013T140000
DTEND;TZID=America/New_York:20221013T160000
DTSTAMP:20260423T204021
CREATED:20220926T151054Z
LAST-MODIFIED:20220926T152622Z
UID:10564-1665669600-1665676800@towardzerowaste.org
SUMMARY:Makers Sewing Meetup
DESCRIPTION:Join the TZW Makers in sewing bags for the Reusable Bag Project and connecting with fellow community members!\nThere will be two sessions available on October 13th\, 2-4pm AND 6-9pm.\nMake sure to register for the time slot you will be attending here: https://signup.com/go/WXrzNAc\nThis event is open to Toward Zero Waste community members local to Cary and the surrounding area who are interested in being a part of the Makers community and Reusable Bag Project. Nancy\, our Reusable Bag Project lead\, will be hosting the event and be able to assist beginner sewists as needed. Please bring any sewing equipment you have access to!\nHope to see you there!
URL:https://towardzerowaste.org/event/makers-sewing-meetup/
LOCATION:Christ The King Lutheran Church\, 600 Walnut St\, Cary\, NC\, 27511
CATEGORIES:Apex,Cary,Maker's Events,Raleigh
ATTACH;FMTTYPE=image/jpeg:https://towardzerowaste.org/wp-content/uploads/2022/09/Makers-Sewing-Meetup.jpg
END:VEVENT
BEGIN:VEVENT
DTSTART;TZID=America/New_York:20220929T190000
DTEND;TZID=America/New_York:20220929T200000
DTSTAMP:20260423T204021
CREATED:20220920T113717Z
LAST-MODIFIED:20220920T113822Z
UID:10537-1664478000-1664481600@towardzerowaste.org
SUMMARY:Makers Meetup: Worth the Hype?
DESCRIPTION:Join the Makers for a casual discussion about what zero waste products are worth buying!\nWith rampant greenwashing and clever marketing affecting our judgement\, how do you know if something is just a claim or actually makes a difference?\nShare your own feedback on zero waste products you have bought and whether you would recommend them to others and we’ll figure out what is worth the hype!\nRegister for the Zoom link here:\nhttps://us02web.zoom.us/…/tZ0tdOGuqz8oHtC86…
URL:https://towardzerowaste.org/event/makers-meetup-worth-the-hype/
LOCATION:Online
CATEGORIES:Cary,Maker's Events,Raleigh,Virtual Event
ATTACH;FMTTYPE=image/jpeg:https://towardzerowaste.org/wp-content/uploads/2022/09/Makers-Meetup-Worth-The-Hype-scaled.jpg
END:VEVENT
BEGIN:VEVENT
DTSTART;TZID=America/New_York:20220917T080000
DTEND;TZID=America/New_York:20220917T120000
DTSTAMP:20260423T204021
CREATED:20220912T233927Z
LAST-MODIFIED:20220912T234054Z
UID:10496-1663401600-1663416000@towardzerowaste.org
SUMMARY:TZW Makers Table at the Cary Downtown Farmers Market
DESCRIPTION:The Toward Zero Waste Makers will be hosting a table at the Cary Downtown Farmers Market on September 17th to further our partnership with the market and raise awareness of the Reusable Bag Project!\nWe hope to see other fellow Makers there in support and gain some new members as well. Bring your reusable bags and support your local vendors- see you there!
URL:https://towardzerowaste.org/event/tzw-makers-table-at-the-cary-downtown-farmers-market/
LOCATION:Cary Downtown Farmers Market\, 160 E Park St\, Cary\, NC\, 27511\, United States
CATEGORIES:Cary,Maker's Events,Raleigh
ATTACH;FMTTYPE=image/jpeg:https://towardzerowaste.org/wp-content/uploads/2022/09/Makers-Table-at-Cary-Downtown-Farmers-Market-scaled.jpg
END:VEVENT
BEGIN:VEVENT
DTSTART;TZID=America/New_York:20220915T180000
DTEND;TZID=America/New_York:20220915T210000
DTSTAMP:20260423T204021
CREATED:20220830T161743Z
LAST-MODIFIED:20220830T164757Z
UID:10447-1663264800-1663275600@towardzerowaste.org
SUMMARY:TZW Makers Sewing Meetup- Cary
DESCRIPTION:Join the TZW Makers for an evening of assembling & sewing bags for the Reusable Bag Project and connecting with fellow community members!\nRegister to reserve your space here: https://signup.com/go/hCQpAiN\nThis event is open to Toward Zero Waste community members local to Cary and the surrounding area who are interested in being a part of the Makers community and Reusable Bag Project. Nancy\, our Reusable Bag Project lead\, will be hosting the event and be able to assist beginner sewists as needed. Please bring any sewing equipment you have access to!\nThe event will offer light refreshments and a positive atmosphere for makers to connect and work together to reduce the need for single use plastic by crafting reusable bags that will be used at the Cary Downtown Farmers Market!\nThe pandemic is waning – let’s keep it that way! Masks will be optional and up to individual discretion\, although church policy states that unvaccinated persons must be masked. By registering\, you acknowledge that you should not attend if you have a fever or are not feeling well.
URL:https://towardzerowaste.org/event/tzw-makers-sewing-meetup/
LOCATION:Christ The King Lutheran Church\, 600 Walnut St\, Cary\, NC\, 27511
CATEGORIES:Cary,Maker's Events,Raleigh
ATTACH;FMTTYPE=image/jpeg:https://towardzerowaste.org/wp-content/uploads/2022/08/Sewing-Meetup-scaled.jpg
END:VEVENT
BEGIN:VEVENT
DTSTART;TZID=America/New_York:20220825T190000
DTEND;TZID=America/New_York:20220825T200000
DTSTAMP:20260423T204021
CREATED:20220715T221713Z
LAST-MODIFIED:20220810T132801Z
UID:10262-1661454000-1661457600@towardzerowaste.org
SUMMARY:TZW Makers Meetup: Clothing Alterations\, Upcycles\, and Mends- Virtual Event
DESCRIPTION:For our August Makers meetup\, we’ll be having a show-and-tell style discussion about how we have altered\, up cycled\, or mended clothing items to better serve our needs and get more use out of what we have!\nBe prepared to talk the group through your process by showing items that you’ve worked on\, and get inspired by others’ ideas.\nSee you there!\nRegister for the Zoom link here: https://us02web.zoom.us/…/tZcsf…
URL:https://towardzerowaste.org/event/tzw-makers-meetup-virtual-event/
LOCATION:Online
CATEGORIES:Maker's Events,Virtual Event
ATTACH;FMTTYPE=image/jpeg:https://towardzerowaste.org/wp-content/uploads/2022/07/298205774_10217076337821090_1936103558066631823_n-scaled.jpg
END:VEVENT
BEGIN:VEVENT
DTSTART;TZID=America/New_York:20220728T190000
DTEND;TZID=America/New_York:20220728T200000
DTSTAMP:20260423T204021
CREATED:20220706T190008Z
LAST-MODIFIED:20220706T190008Z
UID:10190-1659034800-1659038400@towardzerowaste.org
SUMMARY:TZW Makers Meetup: Fabric Scrap Projects (Virtual)
DESCRIPTION:Join us for our July meetup where we discuss creative ways to utilize fabric scraps!\nOur fellow Maker\, Sara Johnson\, will be leading this discussion and sharing really helpful insights into the process of creating useful items from scraps and off-cuts of fabric\, so they don’t go to waste! From beginner friendly pouches to quilting basics\, you won’t want to miss this one!\nBe sure to bring any examples of fabric scrap projects you have for a show-and-tell\, as well as any project ideas you’ve been inspired by!\nRegister for Zoom link here:\nhttps://us02web.zoom.us/…/tZYvcOmsrTMoHdzwUcYL8zrG…\nSee you there!
URL:https://towardzerowaste.org/event/tzw-makers-meetup-fabric-scrap-projects-virtual/
LOCATION:Online
CATEGORIES:Cary,Durham,Maker's Events,Raleigh,Virtual Event
ATTACH;FMTTYPE=image/jpeg:https://towardzerowaste.org/wp-content/uploads/2022/07/291686358_10216951796707640_5145169643180474839_n-scaled.jpg
END:VEVENT
BEGIN:VEVENT
DTSTART;TZID=America/New_York:20220719T120000
DTEND;TZID=America/New_York:20220719T130000
DTSTAMP:20260423T204021
CREATED:20220531T171641Z
LAST-MODIFIED:20220623T220905Z
UID:10050-1658232000-1658235600@towardzerowaste.org
SUMMARY:Microplastic Madness Film and Discussion With The Director- Virtual\, All NC
DESCRIPTION:Learn more about the impact of plastics on the environment and what you can do to mitigate your plastic waste. We will be hosting a kid-friendly screening and discussion with Debby Lee Cohen\, co-director and producer of the documentary Microplastic Madness. The link to the film will be sent out on July 1st. Please view the film at your leisure then join us for the discussion on July 19th at 12p ET. A separate Zoom link will be emailed out the morning of the 19th for the discussion. \nRegister HERE \nPlease note: by registering for this screening of Microplastic Madness\, I agree not to share\, loan\, or transfer the password\, duplicate\, download\, stream online\, or present live any part of the movie.
URL:https://towardzerowaste.org/event/microplastic-madness-documentary-and-discussion-virtual-all-nc/
LOCATION:Online
CATEGORIES:Cary,Maker's Events,Plastic Free July,Raleigh,Teens Talk,Virtual Event
ATTACH;FMTTYPE=image/png:https://towardzerowaste.org/wp-content/uploads/2022/05/Microplastic-Madness-Angelina-sq-pr-awards-logo-2020-1-1.png
END:VEVENT
BEGIN:VEVENT
DTSTART;TZID=America/New_York:20220714T180000
DTEND;TZID=America/New_York:20220714T210000
DTSTAMP:20260423T204021
CREATED:20220706T185359Z
LAST-MODIFIED:20220706T185536Z
UID:10185-1657821600-1657832400@towardzerowaste.org
SUMMARY:Toward Zero Waste Makers Sewing Meetup
DESCRIPTION:Join the TZW Makers for an evening of assembling & sewing bags for the Reusable Bag Project and connecting with fellow community members!\nRegister on Eventbrite to confirm your space! : https://www.eventbrite.com/…/makers-sewing-meetup…\nThis event is open to Toward Zero Waste community members local to Cary and the surrounding area who are interested in being a part of the Makers community and Reusable Bag Project. Nancy\, our Reusable Bag Project lead\, will be hosting the event and be able to assist beginner sewists as needed. Please bring any sewing equipment you have access to!\nThe event will offer light refreshments and a positive atmosphere for makers to connect and work together to reduce the need for single use plastic by crafting reusable bags that will be used at the Cary Downtown Farmers Market!\nThe pandemic is waning – let’s keep it that way! Masks will be optional and up to individual discretion. By registering\, you acknowledge that you should not attend if you have a fever or are not feeling well.\nThere will be a limit of 10 spaces\, so make sure you register for your spot today!
URL:https://towardzerowaste.org/event/toward-zero-waste-makers-sewing-meetup/
LOCATION:Christ The King Lutheran Church\, 600 Walnut St\, Cary\, NC\, 27511
CATEGORIES:Cary,Durham,Maker's Events,Raleigh
ATTACH;FMTTYPE=image/jpeg:https://towardzerowaste.org/wp-content/uploads/2022/07/291526371_10216951543221303_1938053621173911241_n-scaled.jpg
END:VEVENT
BEGIN:VEVENT
DTSTART;TZID=America/New_York:20220616T190000
DTEND;TZID=America/New_York:20220616T210000
DTSTAMP:20260423T204021
CREATED:20220527T002451Z
LAST-MODIFIED:20220531T150700Z
UID:9958-1655406000-1655413200@towardzerowaste.org
SUMMARY:Cary\, NC- Makers Group Sewing Meetup
DESCRIPTION:We’re so excited to announce the first in-person Makers meetup! We’ve been working on making this possible for a while\, and are so excited the time is finally here to spend time together! The goal/objective is to collectively work together assembling bags for the Reusable Bag Project and connect with other group members.\nThis event is open to Toward Zero Waste community members local to Cary and the surrounding area who are already or are interested in being a part of the Makers community and Reusable Bag Project. Nancy\, our Reusable Bag Project lead\, will be hosting the event and be able to help guide beginner sewists as needed!\nThere will be a limit of 12 spaces\, so make sure you register for your spot today! Registration form: https://forms.gle/9YcD5ugTfe6PrtAi8\nIf you have any additional questions please email Nancy at nriemer@gmail.com or Cailin at cailin@towardzerowaste.org!
URL:https://towardzerowaste.org/event/virtual-makers-group-sewing-meetup/
LOCATION:Christ The King Lutheran Church\, 600 Walnut St\, Cary\, NC\, 27511
CATEGORIES:Maker's Events,Virtual Event
ATTACH;FMTTYPE=image/jpeg:https://towardzerowaste.org/wp-content/uploads/2022/05/Makers-Group-Sewing-Meetup-6_16_22.jpg
END:VEVENT
BEGIN:VEVENT
DTSTART;TZID=America/New_York:20220519T190000
DTEND;TZID=America/New_York:20220519T200000
DTSTAMP:20260423T204021
CREATED:20220505T214954Z
LAST-MODIFIED:20220505T214954Z
UID:9739-1652986800-1652990400@towardzerowaste.org
SUMMARY:Makers Meetup: Low-Waste Food Practices
DESCRIPTION:Join us for a discussion about all things food and ways to avoid waste in the kitchen. From making your own tofu & sprouts\, storing techniques to keep food fresh\, and ways to use produce before it goes bad – we’ll be sharing all of the tips and tricks! Hope to see you there!
URL:https://towardzerowaste.org/event/makers-meetup-low-waste-food-practices/
LOCATION:Online
CATEGORIES:Maker's Events,Virtual Event
ATTACH;FMTTYPE=image/jpeg:https://towardzerowaste.org/wp-content/uploads/2022/05/Makers-Food-Waste-Meetup-scaled.jpg
END:VEVENT
BEGIN:VEVENT
DTSTART;TZID=UTC:20220420T190000
DTEND;TZID=UTC:20220420T200000
DTSTAMP:20260423T204021
CREATED:20220331T213539Z
LAST-MODIFIED:20220331T215033Z
UID:9518-1650481200-1650484800@towardzerowaste.org
SUMMARY:Virtual April Makers Meetup: Cutlery Wrap Demo
DESCRIPTION:April’s Makers Meetup will be a great time to share ideas with like minds and tackle one of the beginner zero waste projects that has been shared in the Facebook group! This event will feature a demonstration of how to sew your own cutlery wraps to carry your utensils with you in style!
URL:https://towardzerowaste.org/event/virtual-april-makers-meetup-cutlery-wrap-demo/
LOCATION:Online
CATEGORIES:Maker's Events,Virtual Event
ATTACH;FMTTYPE=image/png:https://towardzerowaste.org/wp-content/uploads/2022/03/April-Makers-Meetup-Cutlery-Wraps-2.png
END:VEVENT
BEGIN:VEVENT
DTSTART;TZID=UTC:20220409T080000
DTEND;TZID=UTC:20220409T120000
DTSTAMP:20260423T204021
CREATED:20220331T220244Z
LAST-MODIFIED:20220406T213919Z
UID:9524-1649491200-1649505600@towardzerowaste.org
SUMMARY:TZW Makers Table at the Cary Downtown Farmers Spring Opening Day
DESCRIPTION:We’re so excited to share that we will have our own table at the Cary Downtown Farmers Market Spring Opening Day on April 9th – this will be amazing exposure for the Reusable Bag Project and to gain more group members!\nIf you are interested in helping with some fabric cutting demos or engaging with the community at this tabling event\, please reach out at makers@towardzerowaste.org! We hope to see you there with your reusable bags!
URL:https://towardzerowaste.org/event/tzw-makers-table-at-the-cary-downtown-farmers-spring-opening-day/
LOCATION:Cary Downtown Farmers Market\, 160 E Park St\, Cary\, NC\, 27511\, United States
CATEGORIES:Cary,Maker's Events
ATTACH;FMTTYPE=image/png:https://towardzerowaste.org/wp-content/uploads/2022/03/CDFM-Spring-Opening-Day.png
END:VEVENT
BEGIN:VEVENT
DTSTART;TZID=America/New_York:20220315T190000
DTEND;TZID=America/New_York:20220315T200000
DTSTAMP:20260423T204021
CREATED:20211214T143243Z
LAST-MODIFIED:20220310T143526Z
UID:8243-1647370800-1647374400@towardzerowaste.org
SUMMARY:Reducing Food Waste: Guest Speaker Mei from Food Waste Feast
DESCRIPTION:Meet Mei and learn why she started Food Waste Feast with her sister Irene. \nJoin us to learn how to reduce food waste in the kitchen with award winning chef\, cookbook author\, advocate and food waste fighter Mei! Register HERE. \nA Zoom link will be sent out a few hours before the event starts. Hope to see you there!
URL:https://towardzerowaste.org/event/reducing-food-waste-guest-speaker-mei-from-food-waste-feast/
LOCATION:Online
CATEGORIES:Maker's Events,Virtual Event
ATTACH;FMTTYPE=image/png:https://towardzerowaste.org/wp-content/uploads/2021/09/aboutuswebsitefooter.png
END:VEVENT
BEGIN:VEVENT
DTSTART;TZID=America/New_York:20210916T190000
DTEND;TZID=America/New_York:20210916T200000
DTSTAMP:20260423T204021
CREATED:20210826T221629Z
LAST-MODIFIED:20210826T222225Z
UID:7723-1631818800-1631822400@towardzerowaste.org
SUMMARY:Makers Fabric Cutting Virtual Meet-up
DESCRIPTION:Register HerePlease join fellow makers for Toward Zero Waste’s first Makers Community virtual event! We will meet over Zoom\, enjoy a chat\, maybe a beverage\, and do some fabric cutting (for your own project or the TZW Reusable Bag Project).
URL:https://towardzerowaste.org/event/makers-fabric-cutting-virtual-meet-up/
LOCATION:Online
CATEGORIES:Maker's Events,Virtual Event
ATTACH;FMTTYPE=image/jpeg:https://towardzerowaste.org/wp-content/uploads/2021/08/TZWMakers_Photo-scaled.jpg
END:VEVENT
END:VCALENDAR