BEGIN:VCALENDAR
VERSION:2.0
PRODID:-//Toward Zero Waste - ECPv6.15.20//NONSGML v1.0//EN
CALSCALE:GREGORIAN
METHOD:PUBLISH
X-WR-CALNAME:Toward Zero Waste
X-ORIGINAL-URL:https://towardzerowaste.org
X-WR-CALDESC:Events for Toward Zero Waste
REFRESH-INTERVAL;VALUE=DURATION:PT1H
X-Robots-Tag:noindex
X-PUBLISHED-TTL:PT1H
BEGIN:VTIMEZONE
TZID:America/New_York
BEGIN:DAYLIGHT
TZOFFSETFROM:-0500
TZOFFSETTO:-0400
TZNAME:EDT
DTSTART:20230312T070000
END:DAYLIGHT
BEGIN:STANDARD
TZOFFSETFROM:-0400
TZOFFSETTO:-0500
TZNAME:EST
DTSTART:20231105T060000
END:STANDARD
BEGIN:DAYLIGHT
TZOFFSETFROM:-0500
TZOFFSETTO:-0400
TZNAME:EDT
DTSTART:20240310T070000
END:DAYLIGHT
BEGIN:STANDARD
TZOFFSETFROM:-0400
TZOFFSETTO:-0500
TZNAME:EST
DTSTART:20241103T060000
END:STANDARD
BEGIN:DAYLIGHT
TZOFFSETFROM:-0500
TZOFFSETTO:-0400
TZNAME:EDT
DTSTART:20250309T070000
END:DAYLIGHT
BEGIN:STANDARD
TZOFFSETFROM:-0400
TZOFFSETTO:-0500
TZNAME:EST
DTSTART:20251102T060000
END:STANDARD
END:VTIMEZONE
BEGIN:VEVENT
DTSTART;TZID=America/New_York:20241219T180000
DTEND;TZID=America/New_York:20241219T200000
DTSTAMP:20260423T160021
CREATED:20241202T164823Z
LAST-MODIFIED:20241202T164823Z
UID:12748-1734631200-1734638400@towardzerowaste.org
SUMMARY:Holiday Social & Swap
DESCRIPTION:Let’s keep up our low-waste practices during the holidays with a Holiday Social & Swap.\nWe’ll eat\, mingle and “shop” from among a curated selection of items we all bring from our own homes. That may include home decor\, clothing\, jewelry\, books\, games or any other item of giftable quality that just hasn’t gotten much love or attention in your home. Think: our very own sustainable boutique.\nBring 1 item or 20. There are no limits on how much you bring or take home. Everything is free\, of course. Any items not claimed at the end of the evening will be donated to the Dorcas Thrift Shop in Cary. For inspiration\, watch this video: https://www.youtube.com/watch?v=44QMv-jnYbk&t=13s\nDon’t forget to bring a sweet or savory dish to share.
URL:https://towardzerowaste.org/event/holiday-social-swap/
LOCATION:Christ The King Lutheran Church\, 600 Walnut St\, Cary\, NC\, 27511
CATEGORIES:Apex,Cary,Fuquay-Varina,Maker's Events,Morrisville,Raleigh
ATTACH;FMTTYPE=image/jpeg:https://towardzerowaste.org/wp-content/uploads/2024/12/467678780_10100581112193640_2511664563601509798_n-scaled.jpg
END:VEVENT
BEGIN:VEVENT
DTSTART;TZID=America/New_York:20241219T140000
DTEND;TZID=America/New_York:20241219T210000
DTSTAMP:20260423T160021
CREATED:20240904T131427Z
LAST-MODIFIED:20240904T131427Z
UID:12672-1734616800-1734642000@towardzerowaste.org
SUMMARY:Makers' December Sewing Meetup
DESCRIPTION:Sign up here: https://signup.com/client/invitation2/secure/24021678073…Join the Makers sewing meetup for the 2024 Reusable Bag Project!This is a great way to connect with other Toward Zero Waste community members\, reduce waste\, and learn a new skill!We will have two sessions\, 2-4pm and 6-9pm\, and there will be a limit of 10 spaces for each session. You do not have to attend for the full session\, so register even if you plan to come for an hour or two!Beginners are welcome and no equipment is required but you can bring what you have!Hope to see you there!
URL:https://towardzerowaste.org/event/makers-december-sewing-meetup/
LOCATION:Christ The King Lutheran Church\, 600 Walnut St\, Cary\, NC\, 27511
CATEGORIES:Apex,Cary,Fuquay-Varina,Morrisville,Raleigh
ATTACH;FMTTYPE=image/png:https://towardzerowaste.org/wp-content/uploads/2024/09/2024-Makers-Sewing-Meetups-11.png
END:VEVENT
BEGIN:VEVENT
DTSTART;TZID=America/New_York:20241121T140000
DTEND;TZID=America/New_York:20241121T210000
DTSTAMP:20260423T160021
CREATED:20240904T130909Z
LAST-MODIFIED:20240904T130909Z
UID:12669-1732197600-1732222800@towardzerowaste.org
SUMMARY:Makers' November Sewing Meetup
DESCRIPTION:Sign up here: https://signup.com/client/invitation2/secure/24021678073…Join the Makers sewing meetup for the 2024 Reusable Bag Project!This is a great way to connect with other Toward Zero Waste community members\, reduce waste\, and learn a new skill!We will have two sessions\, 2-4pm and 6-9pm\, and there will be a limit of 10 spaces for each session. You do not have to attend for the full session\, so register even if you plan to come for an hour or two!Beginners are welcome and no equipment is required but you can bring what you have!Hope to see you there!
URL:https://towardzerowaste.org/event/makers-november-sewing-meetup/
LOCATION:Christ The King Lutheran Church\, 600 Walnut St\, Cary\, NC\, 27511
CATEGORIES:Apex,Cary,Fuquay-Varina,Morrisville,Raleigh
ATTACH;FMTTYPE=image/png:https://towardzerowaste.org/wp-content/uploads/2024/09/2024-Makers-Sewing-Meetups-10.png
END:VEVENT
BEGIN:VEVENT
DTSTART;TZID=America/New_York:20241017T140000
DTEND;TZID=America/New_York:20241017T210000
DTSTAMP:20260423T160021
CREATED:20240904T130342Z
LAST-MODIFIED:20240904T130342Z
UID:12666-1729173600-1729198800@towardzerowaste.org
SUMMARY:Makers' October Sewing Meetup
DESCRIPTION:Sign up here: https://signup.com/client/invitation2/secure/24021678073…Join the Makers sewing meetup for the 2024 Reusable Bag Project!This is a great way to connect with other Toward Zero Waste community members\, reduce waste\, and learn a new skill!We will have two sessions\, 2-4pm and 6-9pm\, and there will be a limit of 10 spaces for each session. You do not have to attend for the full session\, so register even if you plan to come for an hour or two!Beginners are welcome and no equipment is required but you can bring what you have!Hope to see you there!
URL:https://towardzerowaste.org/event/makers-october-sewing-meetup/
LOCATION:Christ The King Lutheran Church\, 600 Walnut St\, Cary\, NC\, 27511
CATEGORIES:Apex,Cary,Fuquay-Varina,Morrisville,Raleigh
ATTACH;FMTTYPE=image/png:https://towardzerowaste.org/wp-content/uploads/2024/09/2024-Makers-Sewing-Meetups-9.png
END:VEVENT
BEGIN:VEVENT
DTSTART;TZID=America/New_York:20240919T140000
DTEND;TZID=America/New_York:20240919T210000
DTSTAMP:20260423T160021
CREATED:20240904T125913Z
LAST-MODIFIED:20240904T125913Z
UID:12663-1726754400-1726779600@towardzerowaste.org
SUMMARY:Makers' September Sewing Meetup
DESCRIPTION:Sign up here: https://signup.com/client/invitation2/secure/24021678073…Join the Makers sewing meetup for the 2024 Reusable Bag Project!This is a great way to connect with other Toward Zero Waste community members\, reduce waste\, and learn a new skill!We will have two sessions\, 2-4pm and 6-9pm\, and there will be a limit of 10 spaces for each session. You do not have to attend for the full session\, so register even if you plan to come for an hour or two!Beginners are welcome and no equipment is required but you can bring what you have!Hope to see you there!
URL:https://towardzerowaste.org/event/makers-september-sewing-meetup/
LOCATION:Christ The King Lutheran Church\, 600 Walnut St\, Cary\, NC\, 27511
CATEGORIES:Apex,Cary,Fuquay-Varina,Morrisville,Raleigh
ATTACH;FMTTYPE=image/png:https://towardzerowaste.org/wp-content/uploads/2024/09/2024-Makers-Sewing-Meetups-8.png
END:VEVENT
BEGIN:VEVENT
DTSTART;TZID=America/New_York:20240907T080000
DTEND;TZID=America/New_York:20240907T120000
DTSTAMP:20260423T160021
CREATED:20240222T171049Z
LAST-MODIFIED:20240228T153922Z
UID:12184-1725696000-1725710400@towardzerowaste.org
SUMMARY:Fuquay-Varina Farmers Market
DESCRIPTION:TZW will have a table at the The Fuquay-Varina Growers Market (FVGM). The FVGM is a 501(c)3 nonprofit organization cultivating and supporting partnerships between local farmers\, producers\, artisans and the community. The Growers Market is committed in providing an inclusive\, diverse\, equitable\, and safe-space regardless of race\, gender\, sexual orientation\, political beliefs\, or social economic status. Come by and say hello!
URL:https://towardzerowaste.org/event/fuquay-varina-farmers-market/
LOCATION:Holly Springs Farmers Market\, 300 W Ballentine St 27540\, Holly Springs\, NC\, 27540\, United States
CATEGORIES:Fuquay-Varina,Holly Springs
ATTACH;FMTTYPE=image/jpeg:https://towardzerowaste.org/wp-content/uploads/2024/02/market-6329164_1280.jpg
END:VEVENT
BEGIN:VEVENT
DTSTART;TZID=America/New_York:20240829T140000
DTEND;TZID=America/New_York:20240829T160000
DTSTAMP:20260423T160021
CREATED:20240820T162353Z
LAST-MODIFIED:20240820T162353Z
UID:12643-1724940000-1724947200@towardzerowaste.org
SUMMARY:Canning: Making Fruit Preserves
DESCRIPTION:Sign up here:https://signup.com/go/SywBqXf\nDarcy Harris\, a maker with years of experience with canning and preserving fruits will demo the hot water bath canning method of making fruit preserves. Join us to learn how to make the most of summer fruits for our own use or to make gifts that promote our low-waste practices.\nWe will meet in the kitchen behind the Luther Café.
URL:https://towardzerowaste.org/event/canning-making-fruit-preserves/
LOCATION:Christ The King Lutheran Church\, 600 Walnut St\, Cary\, NC\, 27511
CATEGORIES:Apex,Cary,Fuquay-Varina,Holly Springs,Morrisville,Raleigh
ATTACH;FMTTYPE=image/jpeg:https://towardzerowaste.org/wp-content/uploads/2024/08/455921490_10233381043374534_5342589438650173852_n.jpg
END:VEVENT
BEGIN:VEVENT
DTSTART;TZID=America/New_York:20240713T080000
DTEND;TZID=America/New_York:20240713T120000
DTSTAMP:20260423T160021
CREATED:20240222T170829Z
LAST-MODIFIED:20240222T170829Z
UID:12180-1720857600-1720872000@towardzerowaste.org
SUMMARY:Fuquay-Varina Growers Market
DESCRIPTION:TZW will have a table at the The Fuquay-Varina Growers Market (FVGM). The FVGM is a 501(c)3 nonprofit organization cultivating and supporting partnerships between local farmers\, producers\, artisans and the community. The Growers Market is committed in providing an inclusive\, diverse\, equitable\, and safe-space regardless of race\, gender\, sexual orientation\, political beliefs\, or social economic status. Come by and say hello!
URL:https://towardzerowaste.org/event/fuquay-varina-growers-market-5/
LOCATION:Fuquay-Varina Growers Market\, 121 N Main St\, Fuquay-Varina\, NC\, 27526\, United States
CATEGORIES:Fuquay-Varina
ATTACH;FMTTYPE=image/jpeg:https://towardzerowaste.org/wp-content/uploads/2024/02/IMG_7072-1.jpg
END:VEVENT
BEGIN:VEVENT
DTSTART;TZID=America/New_York:20240622T080000
DTEND;TZID=America/New_York:20240622T120000
DTSTAMP:20260423T160021
CREATED:20240222T170005Z
LAST-MODIFIED:20240228T154216Z
UID:12171-1719043200-1719057600@towardzerowaste.org
SUMMARY:Fuquay-Varina Growers Market
DESCRIPTION:TZW will have a table at the The Fuquay-Varina Growers Market (FVGM). The FVGM is a 501(c)3 nonprofit organization cultivating and supporting partnerships between local farmers\, producers\, artisans and the community. The Growers Market is committed in providing an inclusive\, diverse\, equitable\, and safe-space regardless of race\, gender\, sexual orientation\, political beliefs\, or social economic status. Come by and say hello!
URL:https://towardzerowaste.org/event/fuquay-varina-growers-market-3/
LOCATION:Fuquay-Varina Growers Market\, 121 N Main St\, Fuquay-Varina\, NC\, 27526\, United States
CATEGORIES:Fuquay-Varina
ATTACH;FMTTYPE=image/jpeg:https://towardzerowaste.org/wp-content/uploads/2024/02/ogburnproduce.jpg
END:VEVENT
BEGIN:VEVENT
DTSTART;TZID=America/New_York:20240504T080000
DTEND;TZID=America/New_York:20240504T120000
DTSTAMP:20260423T160021
CREATED:20240222T165329Z
LAST-MODIFIED:20240228T155158Z
UID:12166-1714809600-1714824000@towardzerowaste.org
SUMMARY:Holly Springs Farmers Market
DESCRIPTION:TZW will host the kid’s table at the Holly Springs Farmers Market. Come by and say hello!
URL:https://towardzerowaste.org/event/fuquay-varina-growers-market-2/
LOCATION:Holly Springs Farmers Market\, 300 W Ballentine St 27540\, Holly Springs\, NC\, 27540\, United States
CATEGORIES:Fuquay-Varina,Holly Springs
ATTACH;FMTTYPE=image/jpeg:https://towardzerowaste.org/wp-content/uploads/2024/02/market-6329164_1280.jpg
END:VEVENT
BEGIN:VEVENT
DTSTART;TZID=America/New_York:20240413T080000
DTEND;TZID=America/New_York:20240413T120000
DTSTAMP:20260423T160021
CREATED:20240222T164543Z
LAST-MODIFIED:20240228T155457Z
UID:12158-1712995200-1713009600@towardzerowaste.org
SUMMARY:Holly Springs Farmers Market
DESCRIPTION:TZW will host the kid’s table at the Holly Springs Farmers Market. Come by and say hello!
URL:https://towardzerowaste.org/event/fuquay-varina-growers-market/
LOCATION:Holly Springs Farmers Market\, 300 W Ballentine St 27540\, Holly Springs\, NC\, 27540\, United States
CATEGORIES:Fuquay-Varina,Holly Springs
ATTACH;FMTTYPE=image/jpeg:https://towardzerowaste.org/wp-content/uploads/2024/02/market-6329164_1280.jpg
END:VEVENT
BEGIN:VEVENT
DTSTART;TZID=America/New_York:20240412T173000
DTEND;TZID=America/New_York:20240412T193000
DTSTAMP:20260423T160021
CREATED:20240222T180535Z
LAST-MODIFIED:20240222T180946Z
UID:12192-1712943000-1712950200@towardzerowaste.org
SUMMARY:Lincoln Heights Tiger Fest- Fuquay-Varina
DESCRIPTION:Stop by the TZW table at Tiger Fest! This family-friendly event will have food trucks\, games\, activates\, and much more. Hope to see you there!
URL:https://towardzerowaste.org/event/lincoln-heights-tiger-fest/
LOCATION:Lincoln Heights Elementary School\, 307 Bridge St\, Fuquay-Varina\, NC\, 27526\, United States
CATEGORIES:Fuquay-Varina
ATTACH;FMTTYPE=image/png:https://towardzerowaste.org/wp-content/uploads/2024/02/Front-of-School-with-Logo.png
END:VEVENT
END:VCALENDAR