BEGIN:VCALENDAR
VERSION:2.0
PRODID:-//Toward Zero Waste - ECPv6.15.20//NONSGML v1.0//EN
CALSCALE:GREGORIAN
METHOD:PUBLISH
X-ORIGINAL-URL:https://towardzerowaste.org
X-WR-CALDESC:Events for Toward Zero Waste
REFRESH-INTERVAL;VALUE=DURATION:PT1H
X-Robots-Tag:noindex
X-PUBLISHED-TTL:PT1H
BEGIN:VTIMEZONE
TZID:America/New_York
BEGIN:DAYLIGHT
TZOFFSETFROM:-0500
TZOFFSETTO:-0400
TZNAME:EDT
DTSTART:20200308T070000
END:DAYLIGHT
BEGIN:STANDARD
TZOFFSETFROM:-0400
TZOFFSETTO:-0500
TZNAME:EST
DTSTART:20201101T060000
END:STANDARD
BEGIN:DAYLIGHT
TZOFFSETFROM:-0500
TZOFFSETTO:-0400
TZNAME:EDT
DTSTART:20210314T070000
END:DAYLIGHT
BEGIN:STANDARD
TZOFFSETFROM:-0400
TZOFFSETTO:-0500
TZNAME:EST
DTSTART:20211107T060000
END:STANDARD
BEGIN:DAYLIGHT
TZOFFSETFROM:-0500
TZOFFSETTO:-0400
TZNAME:EDT
DTSTART:20220313T070000
END:DAYLIGHT
BEGIN:STANDARD
TZOFFSETFROM:-0400
TZOFFSETTO:-0500
TZNAME:EST
DTSTART:20221106T060000
END:STANDARD
BEGIN:DAYLIGHT
TZOFFSETFROM:-0500
TZOFFSETTO:-0400
TZNAME:EDT
DTSTART:20230312T070000
END:DAYLIGHT
BEGIN:STANDARD
TZOFFSETFROM:-0400
TZOFFSETTO:-0500
TZNAME:EST
DTSTART:20231105T060000
END:STANDARD
BEGIN:DAYLIGHT
TZOFFSETFROM:-0500
TZOFFSETTO:-0400
TZNAME:EDT
DTSTART:20240310T070000
END:DAYLIGHT
BEGIN:STANDARD
TZOFFSETFROM:-0400
TZOFFSETTO:-0500
TZNAME:EST
DTSTART:20241103T060000
END:STANDARD
BEGIN:DAYLIGHT
TZOFFSETFROM:-0500
TZOFFSETTO:-0400
TZNAME:EDT
DTSTART:20250309T070000
END:DAYLIGHT
BEGIN:STANDARD
TZOFFSETFROM:-0400
TZOFFSETTO:-0500
TZNAME:EST
DTSTART:20251102T060000
END:STANDARD
END:VTIMEZONE
BEGIN:VEVENT
DTSTART;TZID=America/New_York:20240321T140000
DTEND;TZID=America/New_York:20240321T210000
DTSTAMP:20260423T160046
CREATED:20240112T175847Z
LAST-MODIFIED:20240112T175847Z
UID:12025-1711029600-1711054800@towardzerowaste.org
SUMMARY:March Makers Sewing Meetup
DESCRIPTION:Sign up HERE! \nJoin the Makers sewing meetup for the 2024 Reusable Bag Project!\nThis is a great way to connect with other Toward Zero Waste community members\, reduce waste\, and learn a new skill!\nWe will have two sessions\, 2-4pm and 6-9pm\, and there will be a limit of 10 spaces for each session. You do not have to attend for the full session\, so register even if you plan to come for an hour or two!\nBeginners are welcome and no equipment is required but you can bring what you have!\nHope to see you there!
URL:https://towardzerowaste.org/event/march-makers-sewing-meetup/
LOCATION:Christ The King Lutheran Church\, 600 Walnut St\, Cary\, NC\, 27511
CATEGORIES:Cary,Charlotte,Maker's Events,Raleigh
ATTACH;FMTTYPE=image/png:https://towardzerowaste.org/wp-content/uploads/2024/01/2024-Makers-Sewing-Meetups-1.png
END:VEVENT
BEGIN:VEVENT
DTSTART;TZID=America/New_York:20220514T110000
DTEND;TZID=America/New_York:20220514T230000
DTSTAMP:20260423T160046
CREATED:20220505T164238Z
LAST-MODIFIED:20220505T164355Z
UID:9707-1652526000-1652569200@towardzerowaste.org
SUMMARY:Salisbury Earth Day Jam
DESCRIPTION:Stop by and visit the Toward Zero Waste table at Earth Day Jam in Salisbury!
URL:https://towardzerowaste.org/event/salisbury-earth-day-jam/
LOCATION:Bell Tower Green\, Salisbury\, NC
CATEGORIES:Charlotte
ATTACH;FMTTYPE=image/png:https://towardzerowaste.org/wp-content/uploads/2022/05/Earth-Day-Jam.png
END:VEVENT
BEGIN:VEVENT
DTSTART;TZID=America/New_York:20210629T183000
DTEND;TZID=America/New_York:20210629T193000
DTSTAMP:20260423T160046
CREATED:20210623T154007Z
LAST-MODIFIED:20210623T154007Z
UID:7260-1624991400-1624995000@towardzerowaste.org
SUMMARY:Charlotte\, NC- Casual Walk & Discussion
DESCRIPTION:Please join us for a casual walk and zero waste discussion at the Clarks Creek Greenway! No worries if you’re new to the zero waste/low waste movement. This will just be a chance to get out in the fresh air and get to know each other. The address provided is to the Mallard Creek Elementary School parking lot. There will be ample parking as well as a porta-potty if you need it. We will meet at the entrance to the Clarks Creek/Mallard Creek greenway before our walk (right by the playground). Here are some questions to consider for our meet-up: What brings you to the group? What are your interests – zero waste-related or otherwise? What changes are you making or would you like to make in order to positively impact the environment? What changes would you like to see in our community?
URL:https://towardzerowaste.org/event/charlotte-nc-casual-walk-discussion/
LOCATION:Clarks Creek Greenway\, 9729 Mallard Creek Rd\, Charlotte\, NC\, 28262
CATEGORIES:Charlotte
ATTACH;FMTTYPE=image/jpeg:https://towardzerowaste.org/wp-content/uploads/2021/06/205171186_10159721984594287_3497774502689790583_n-scaled.jpg
END:VEVENT
BEGIN:VEVENT
DTSTART;TZID=America/New_York:20210417T100000
DTEND;TZID=America/New_York:20210417T110000
DTSTAMP:20260423T160046
CREATED:20210324T145003Z
LAST-MODIFIED:20210324T150717Z
UID:6848-1618653600-1618657200@towardzerowaste.org
SUMMARY:Ask The Expert\, Recycling Q&A (Mecklenburg County\, NC)
DESCRIPTION:Toward Zero Waste ~ Charlotte is teaming up with Mecklenburg County Solid Waste to ensure our recycling efforts are not in vain! As we work to reduce landfill contributions\, recycling plays an important role. But wishful recycling could cause even more waste! \nTo get the most out of our Q&A session we invite you to watch this 40-minute video at least once over the next three weeks (http://bit.ly/RecycleRight2021) It covers many of the most frequently asked recycling questions. The video is presented by Mecklenburg County Residential Recycling Educators\, Maitri Meyer & Walker Spruill. They have been sustainability enthusiasts for years and both have a strong passion to educate others on reduced consumption and proper recycling. They will also be joining us for the Ask The Experts Recycling Q & A. \nHere is the video outline: \n\nAn overview of the residential curbside recycling process in Mecklenburg county\nChallenges & costs of wishful recycling and how residents can help\nWhat is and is not recyclable\nInteractive/fun game to solidify learning and clarify common misinformation.\n\nAfter watching the video you’ll probably still have some recycling-related questions. That’s great! Please send all of those questions ahead of time to: rachel@towardzerowaste.org. On April 17th at 10 AM EST\, we will be hosting a live Ask the Experts Recycling Q&A where we will be answering all of the questions that you sent in.
URL:https://towardzerowaste.org/event/ask-the-expert-recycling-qa-mecklenburg-county-nc/
LOCATION:Online
CATEGORIES:Charlotte,Virtual Event
ATTACH;FMTTYPE=image/jpeg:https://towardzerowaste.org/wp-content/uploads/2021/03/nature-3294632_1920-scaled.jpg
END:VEVENT
BEGIN:VEVENT
DTSTART;TZID=America/New_York:20210217T190000
DTEND;TZID=America/New_York:20210217T210000
DTSTAMP:20260423T160046
CREATED:20210122T163714Z
LAST-MODIFIED:20210122T164450Z
UID:6098-1613588400-1613595600@towardzerowaste.org
SUMMARY:VIRTUAL Just Eat It Screening *FREE* via Zoom
DESCRIPTION:**VIRTUAL! PLEASE REGISTER AS SPACE IS LIMITED**  \n Nearly 50% of food ends up in the trash. Food Waste is a huge waste of resources and a huge producer of carbon. Dive into the food waste problem with Grant Baldwin and Jenny Rustemeyer in this entertaining documentary from Peg Leg Films. There will be a panel to talk about food waste reduction efforts following the film. Register here: https://www.eventbrite.com/e/137965828507 \n** A Zoom link will be sent out a few hours before the screening \nBrought to you by Toward Zero Waste Raleigh and Hungry Harvest.
URL:https://towardzerowaste.org/event/virtual-just-eat-it-screening-free-via-zoom/
LOCATION:Online
CATEGORIES:Asheville,Cary,Charlotte,Durham,Greenville,Raleigh,Virtual Event
ATTACH;FMTTYPE=image/jpeg:https://towardzerowaste.org/wp-content/uploads/2020/01/Instagram_JustEastIt.jpg
END:VEVENT
END:VCALENDAR