BEGIN:VCALENDAR
VERSION:2.0
PRODID:-//Toward Zero Waste - ECPv6.15.20//NONSGML v1.0//EN
CALSCALE:GREGORIAN
METHOD:PUBLISH
X-ORIGINAL-URL:https://towardzerowaste.org
X-WR-CALDESC:Events for Toward Zero Waste
REFRESH-INTERVAL;VALUE=DURATION:PT1H
X-Robots-Tag:noindex
X-PUBLISHED-TTL:PT1H
BEGIN:VTIMEZONE
TZID:America/New_York
BEGIN:DAYLIGHT
TZOFFSETFROM:-0500
TZOFFSETTO:-0400
TZNAME:EDT
DTSTART:20200308T070000
END:DAYLIGHT
BEGIN:STANDARD
TZOFFSETFROM:-0400
TZOFFSETTO:-0500
TZNAME:EST
DTSTART:20201101T060000
END:STANDARD
BEGIN:DAYLIGHT
TZOFFSETFROM:-0500
TZOFFSETTO:-0400
TZNAME:EDT
DTSTART:20210314T070000
END:DAYLIGHT
BEGIN:STANDARD
TZOFFSETFROM:-0400
TZOFFSETTO:-0500
TZNAME:EST
DTSTART:20211107T060000
END:STANDARD
BEGIN:DAYLIGHT
TZOFFSETFROM:-0500
TZOFFSETTO:-0400
TZNAME:EDT
DTSTART:20220313T070000
END:DAYLIGHT
BEGIN:STANDARD
TZOFFSETFROM:-0400
TZOFFSETTO:-0500
TZNAME:EST
DTSTART:20221106T060000
END:STANDARD
END:VTIMEZONE
BEGIN:VEVENT
DTSTART;TZID=America/New_York:20210710T080000
DTEND;TZID=America/New_York:20210710T100000
DTSTAMP:20260424T012332
CREATED:20210623T150527Z
LAST-MODIFIED:20210629T155115Z
UID:7240-1625904000-1625911200@towardzerowaste.org
SUMMARY:Cary/Apex\, NC Litter Sweep
DESCRIPTION:Let’s enjoy some time together in nature while we help to clean up our community! Join the Toward Zero Waste team on Saturday\, July 10th at Apex Community Park. \nRegister HERE. \nNot ready for group events? We get it! Post pictures of your own litter cleaning efforts and we’ll be sure to send you some Facebook love! Use the hashtag #tzwlittercleanup \nEvent Location:\nApex Community Park\nenter via 1808 Lake Pine Drive entrance (Lake Trail parking entrance) \nDate: Saturday\, July 10\, 2021\nTime: 8 – 10a (early start to beat the heat!) \nWe’ll Supply: Bags or buckets\, grabbers\, and vests from the Town of Apex\nYou Bring: Your family and/or a friend. Bring reusable gloves (work or garden gloves) as well as your own water in your favorite reusable bottle. Don’t forget to dress for the weather!\nAll ages invited and encouraged but parents are responsible for supervising their children. ;)\nAn email reminder will be sent out prior to the event. \nIf you have any questions about the event\, please contact the event coordinator for Toward Zero Waste\, Betsy Sisley\, at betsy@towardzerowaste.org
URL:https://towardzerowaste.org/event/cary-apex-nc-litter-sweep-2/
LOCATION:Apex Community Park\, 2200 Laura Duncan Road\, Cary\, NC\, 27511
CATEGORIES:Cary
ATTACH;FMTTYPE=image/jpeg:https://towardzerowaste.org/wp-content/uploads/2021/03/nature-4202713_1920-scaled.jpg
END:VEVENT
BEGIN:VEVENT
DTSTART;TZID=America/New_York:20210620T080000
DTEND;TZID=America/New_York:20210620T100000
DTSTAMP:20260424T012332
CREATED:20210528T154420Z
LAST-MODIFIED:20210528T154420Z
UID:7162-1624176000-1624183200@towardzerowaste.org
SUMMARY:Cary/Apex\, NC Litter Sweep
DESCRIPTION:Photo Credit: Mick Schulte \nWe can’t think of a better way to celebrate Father’s Day than spending some time together in nature while we help to clean up our community! Join the Toward Zero Waste team on Sunday\, June 20th at White Oak Creek Greenway. For complete details and register:\nhttps://forms.gle/YHJN8F8bC9bZms9h8
URL:https://towardzerowaste.org/event/cary-apex-nc-litter-sweep/
LOCATION:White Oak Creek Greeway\, 8232 Green Level Church Rd\, Apex\, NC\, 27523-9440
CATEGORIES:Cary
ATTACH;FMTTYPE=image/jpeg:https://towardzerowaste.org/wp-content/uploads/2021/05/192802095_10221266256829489_7131484340970712077_n.jpg
END:VEVENT
BEGIN:VEVENT
DTSTART;TZID=America/New_York:20210615T190000
DTEND;TZID=America/New_York:20210615T200000
DTSTAMP:20260424T012332
CREATED:20210528T164550Z
LAST-MODIFIED:20210604T105419Z
UID:7169-1623783600-1623787200@towardzerowaste.org
SUMMARY:Cary/Apex\, NC Impact Meeting w/ guest Regina Smardon
DESCRIPTION:Clean drinking water is one of life’s key necessities. Join TZW Cary & Apex to hear from Regina Smardon about her research on water contaminants and how under-sink filters are temporary but more sustainable than bottled water.\nAfterward\, we will share ongoing impact initiatives and discuss what you want to see happen. If you are interested in volunteering with TZW\, this is a good meeting to attend. If you have any questions\, please contact Andrea Rushing\, TZW Cary/Apex Community Director\, at andrea@towardzerowaste.org. \nRegister HERE. \nAbout Dr. Regina Smardon\nDr. Regina Smardon\, of Holly Springs\, is a sociology PhD who teaches statistics and sociology by day and studies data analytics by night. She is also a single mother to a lovely tweenage daughter who inspired her to get involved with environmental sustainability. All of Regina’s environmental and sustainability work has been a 100% volunteer effort. She has served on the board of directors for Sustainable Sandhills\, in Fayetteville\, NC for 4 years—3 as the Vice Chair of the Board. Regina then joined the Board of Directors of the Cape Fear River Assembly\, as the mid-basin representative\, for 3 years. While on the executive board for CFRA Regina served on committees that planned the annual CFRA conference (inviting speakers like Dr. Jamie Dewitt of ECU and Dr. Detlef Knappe at NCSU to talk about research on the Cape Fear River basin). She also served on the committees planning community forums on Drinking Water Quality and Climate Resilience Planning up and down the Cape Fear River. Regina started the SWWWAG (SouthWest Wake Water Advocacy Group—focused primarily on Holly Springs and Fuquay Varina) FB group in February 2020 to connect local communities to issues affecting the whole water basin. In 2021 Regina added the title of breast cancer survivor to her list of accomplishments and this has increased her passion for environmental health issues (especially hormone disruptors). Dr. Smardon is currently grant writing with Dr. Jamie Dewitt from ECU and Beth Markesino\, Executive Director\, of Stop GenX in Our Water to study the distribution of under-sink drinking water filters in New Hanover County (Wilmington Area).
URL:https://towardzerowaste.org/event/cary-apex-nc-impact-meeting-w-guest-regina-smardon/
LOCATION:Online
CATEGORIES:Cary
ATTACH;FMTTYPE=image/jpeg:https://towardzerowaste.org/wp-content/uploads/2021/05/191282422_10221255161752119_2166699534156912_n-scaled.jpg
END:VEVENT
BEGIN:VEVENT
DTSTART;TZID=America/New_York:20210502T150000
DTEND;TZID=America/New_York:20210502T170000
DTSTAMP:20260424T012332
CREATED:20210422T165800Z
LAST-MODIFIED:20210427T220153Z
UID:7036-1619967600-1619974800@towardzerowaste.org
SUMMARY:TZW Teens Talk: Litter Clean-up
DESCRIPTION:Let’s enjoy some socially distanced time together in nature while we help to clean up our community! Join the Toward Zero Waste team on Sunday\, May 2nd at Green Level High School. \nNot ready for group events? We get it! Post pictures of your own litter cleaning efforts on the 2nd and we’ll be sure to send you some Facebook love! Use the hashtag #tzwlittercleanup \nRegister Here: https://forms.gle/BuJoz8iHkqTQve6Y6 \nEvent Location: Green Level High School\, meet at front entrance\n7600 Roberts Road\, Cary\, NC 27519\nDate: Sunday\, May 2\, 2021\nTime: 3p – 5pm \nWe’ll Supply: Litter clean-up supplies such as bags\, grabbers\, and vests from Wake County’s 86it.\nYou Bring: Masks and reusable work gloves! \nThis event is geared toward young people aged 12-18 and their families. Limited to 40 participants.\nAn email reminder will be sent out prior to the event. \nIf you have any questions about the event\, please contact Cary Community Director for Toward Zero Waste at andrea@towardzerowaste.org
URL:https://towardzerowaste.org/event/teen-litter-sweep/
LOCATION:Green Level High School\, front entrance\, 7600 Roberts Road\, Cary\, NC\, 27519
CATEGORIES:Cary
ATTACH;FMTTYPE=image/jpeg:https://towardzerowaste.org/wp-content/uploads/2021/03/nature-4202713_1920-scaled.jpg
END:VEVENT
BEGIN:VEVENT
DTSTART;TZID=America/New_York:20210217T190000
DTEND;TZID=America/New_York:20210217T210000
DTSTAMP:20260424T012332
CREATED:20210122T163714Z
LAST-MODIFIED:20210122T164450Z
UID:6098-1613588400-1613595600@towardzerowaste.org
SUMMARY:VIRTUAL Just Eat It Screening *FREE* via Zoom
DESCRIPTION:**VIRTUAL! PLEASE REGISTER AS SPACE IS LIMITED**  \n Nearly 50% of food ends up in the trash. Food Waste is a huge waste of resources and a huge producer of carbon. Dive into the food waste problem with Grant Baldwin and Jenny Rustemeyer in this entertaining documentary from Peg Leg Films. There will be a panel to talk about food waste reduction efforts following the film. Register here: https://www.eventbrite.com/e/137965828507 \n** A Zoom link will be sent out a few hours before the screening \nBrought to you by Toward Zero Waste Raleigh and Hungry Harvest.
URL:https://towardzerowaste.org/event/virtual-just-eat-it-screening-free-via-zoom/
LOCATION:Online
CATEGORIES:Asheville,Cary,Charlotte,Durham,Greenville,Raleigh,Virtual Event
ATTACH;FMTTYPE=image/jpeg:https://towardzerowaste.org/wp-content/uploads/2020/01/Instagram_JustEastIt.jpg
END:VEVENT
END:VCALENDAR