BEGIN:VCALENDAR
VERSION:2.0
PRODID:-//Toward Zero Waste - ECPv6.15.20//NONSGML v1.0//EN
CALSCALE:GREGORIAN
METHOD:PUBLISH
X-ORIGINAL-URL:https://towardzerowaste.org
X-WR-CALDESC:Events for Toward Zero Waste
REFRESH-INTERVAL;VALUE=DURATION:PT1H
X-Robots-Tag:noindex
X-PUBLISHED-TTL:PT1H
BEGIN:VTIMEZONE
TZID:America/New_York
BEGIN:DAYLIGHT
TZOFFSETFROM:-0500
TZOFFSETTO:-0400
TZNAME:EDT
DTSTART:20220313T070000
END:DAYLIGHT
BEGIN:STANDARD
TZOFFSETFROM:-0400
TZOFFSETTO:-0500
TZNAME:EST
DTSTART:20221106T060000
END:STANDARD
BEGIN:DAYLIGHT
TZOFFSETFROM:-0500
TZOFFSETTO:-0400
TZNAME:EDT
DTSTART:20230312T070000
END:DAYLIGHT
BEGIN:STANDARD
TZOFFSETFROM:-0400
TZOFFSETTO:-0500
TZNAME:EST
DTSTART:20231105T060000
END:STANDARD
BEGIN:DAYLIGHT
TZOFFSETFROM:-0500
TZOFFSETTO:-0400
TZNAME:EDT
DTSTART:20240310T070000
END:DAYLIGHT
BEGIN:STANDARD
TZOFFSETFROM:-0400
TZOFFSETTO:-0500
TZNAME:EST
DTSTART:20241103T060000
END:STANDARD
END:VTIMEZONE
BEGIN:VEVENT
DTSTART;TZID=America/New_York:20231118T120000
DTEND;TZID=America/New_York:20231118T160000
DTSTAMP:20260423T160139
CREATED:20230913T180514Z
LAST-MODIFIED:20230913T180514Z
UID:11894-1700308800-1700323200@towardzerowaste.org
SUMMARY:Harvest Fest #3
DESCRIPTION:Volunteer with Toward Zero Waste each month this fall for an afternoon of free fun down on the farm! This fall Cary’s Harvest Fest Series will have live music\, local food and beverages\, farm tours\, and more on our historic working farm for the Good Hope Farm Harvest Fest. Toward Zero Waste is looking for volunteers to help staff our table. Volunteer shifts last 2 hours each and are a great opportunity to engage the community about sustainability. Sign up now to be a part of this wonderful event and contribute to building a sustainable future together! \nThere are three Harvest Fests this fall! The next dates are September 16th\, October 21st and November 18th. Sign up HERE: \nPlease note\, parking is not permitted on this historic site; guests can park at Good Hope Baptist Church located at 6628 Good Hope Church Road and enjoy our complimentary shuttle service.
URL:https://towardzerowaste.org/event/harvest-fest-3/
LOCATION:Good Hope Farm\, 1580 Morrisville Carpenter Rd\, Cary\, NC\, 27519
CATEGORIES:Cary,Morrisville
ATTACH;FMTTYPE=image/png:https://towardzerowaste.org/wp-content/uploads/2023/07/Cary-Harvest-Fest.png
END:VEVENT
BEGIN:VEVENT
DTSTART;TZID=America/New_York:20230923T090000
DTEND;TZID=America/New_York:20230923T150000
DTSTAMP:20260423T160139
CREATED:20230816T170554Z
LAST-MODIFIED:20230908T170113Z
UID:11849-1695459600-1695481200@towardzerowaste.org
SUMMARY:Cary Downtown Farmers Market Fall Festival
DESCRIPTION:Toward Zero Waste will have an informational booth at the Downtown Cary Farmers Market Fall Festival! Stop by and say hello! If you would like to volunteer to table at the Toward Zero Waste booth please sign up here:\nhttps://secure.givelively.org/event/toward-zero-waste-north-carolina/cary-falls-farmers-market
URL:https://towardzerowaste.org/event/cary-downtown-farmers-market/
LOCATION:Cary Downtown Farmers Market\, 160 E Park St\, Cary\, NC\, 27511\, United States
CATEGORIES:Cary,Durham,Morrisville,Raleigh
ATTACH;FMTTYPE=image/png:https://towardzerowaste.org/wp-content/uploads/2023/08/Untitled-design-8.png
END:VEVENT
BEGIN:VEVENT
DTSTART;TZID=America/New_York:20230916T120000
DTEND;TZID=America/New_York:20230916T160000
DTSTAMP:20260423T160139
CREATED:20230731T190153Z
LAST-MODIFIED:20230913T180335Z
UID:11783-1694865600-1694880000@towardzerowaste.org
SUMMARY:Harvest Fest #1
DESCRIPTION:Volunteer with Toward Zero Waste each month this fall for an afternoon of free fun down on the farm! This fall Cary’s Harvest Fest Series will have live music\, local food and beverages\, farm tours\, and more on our historic working farm for the Good Hope Farm Harvest Fest. Toward Zero Waste is looking for volunteers to help staff our table. Volunteer shifts last 2 hours each and are a great opportunity to engage the community about sustainability. Sign up now to be a part of this wonderful event and contribute to building a sustainable future together! \nThere are three Harvest Fests this fall! The next dates are September 16th\, October 21st and November 18th. Sign up HERE: \nPlease note\, parking is not permitted on this historic site; guests can park at Good Hope Baptist Church located at 6628 Good Hope Church Road and enjoy our complimentary shuttle service.
URL:https://towardzerowaste.org/event/harvest-fest/
LOCATION:Good Hope Farm\, 1580 Morrisville Carpenter Rd\, Cary\, NC\, 27519
CATEGORIES:Apex,Cary,Durham,Morrisville,Raleigh
ATTACH;FMTTYPE=image/png:https://towardzerowaste.org/wp-content/uploads/2023/07/Cary-Harvest-Fest.png
END:VEVENT
BEGIN:VEVENT
DTSTART;TZID=America/New_York:20230422T080000
DTEND;TZID=America/New_York:20230422T120000
DTSTAMP:20260423T160139
CREATED:20230322T132802Z
LAST-MODIFIED:20230322T135210Z
UID:11351-1682150400-1682164800@towardzerowaste.org
SUMMARY:Morrisville Earth Day 2023
DESCRIPTION:Please join us at our booth during regular Western Wake Farmers Market on Earth Day\, April 22\, from 8a-12p. \nAt this family-friendly event you will learn from the experts and enjoy some fun prizes and activities. A passport adventure game will be available for those that visit particular farmers’ market vendors and education booths for Earth Day. There will also be a tree giveaway raffle! \nSome of the stations will include: \n\nInformation about native plants\, trees\, and companion planting (including some fun giveaways!)\nA composting and vermiculture demonstration (with live worms on display)\nInformation about rain barrels\nA recycling sorting activity with prizes\nChildren’s activities such as seed bomb making\, eco-painting\, and worms\n\nFor more information including where to park go here. \nTo learn about other events we are hosting or going to be at\, visit our Events page.
URL:https://towardzerowaste.org/event/morrisville-earth-day-2023/
LOCATION:Western Wake Farmers Market\, 280 Town Hall Drive\, Morrisville\, NC\, 27560\, United States
CATEGORIES:Cary,Morrisville
ATTACH;FMTTYPE=image/png:https://towardzerowaste.org/wp-content/uploads/2023/03/Morrisville-EarthDay-1200x675-1.png
END:VEVENT
END:VCALENDAR